BEGIN:VCALENDAR
VERSION:2.0
PRODID:-//sabazia.it - ECPv6.15.18//NONSGML v1.0//EN
CALSCALE:GREGORIAN
METHOD:PUBLISH
X-WR-CALNAME:sabazia.it
X-ORIGINAL-URL:https://www.sabazia.it
X-WR-CALDESC:Eventi per sabazia.it
REFRESH-INTERVAL;VALUE=DURATION:PT1H
X-Robots-Tag:noindex
X-PUBLISHED-TTL:PT1H
BEGIN:VTIMEZONE
TZID:Europe/Rome
BEGIN:DAYLIGHT
TZOFFSETFROM:+0100
TZOFFSETTO:+0200
TZNAME:CEST
DTSTART:20220327T010000
END:DAYLIGHT
BEGIN:STANDARD
TZOFFSETFROM:+0200
TZOFFSETTO:+0100
TZNAME:CET
DTSTART:20221030T010000
END:STANDARD
BEGIN:DAYLIGHT
TZOFFSETFROM:+0100
TZOFFSETTO:+0200
TZNAME:CEST
DTSTART:20230326T010000
END:DAYLIGHT
BEGIN:STANDARD
TZOFFSETFROM:+0200
TZOFFSETTO:+0100
TZNAME:CET
DTSTART:20231029T010000
END:STANDARD
BEGIN:DAYLIGHT
TZOFFSETFROM:+0100
TZOFFSETTO:+0200
TZNAME:CEST
DTSTART:20240331T010000
END:DAYLIGHT
BEGIN:STANDARD
TZOFFSETFROM:+0200
TZOFFSETTO:+0100
TZNAME:CET
DTSTART:20241027T010000
END:STANDARD
BEGIN:DAYLIGHT
TZOFFSETFROM:+0100
TZOFFSETTO:+0200
TZNAME:CEST
DTSTART:20250330T010000
END:DAYLIGHT
BEGIN:STANDARD
TZOFFSETFROM:+0200
TZOFFSETTO:+0100
TZNAME:CET
DTSTART:20251026T010000
END:STANDARD
END:VTIMEZONE
BEGIN:VEVENT
DTSTART;TZID=Europe/Rome:20241201T050000
DTEND;TZID=Europe/Rome:20241202T045959
DTSTAMP:20260419T170824
CREATED:20231026T135844Z
LAST-MODIFIED:20231026T135844Z
UID:30557-1733029200-1733115599@www.sabazia.it
SUMMARY:Mercatino Antiquariato e Artigianato Manziana
DESCRIPTION:Mercatino dell’Antiquariato e dell’Artigianato di Manziana\nOgni prima domenica del mese\, piazza T. Tittoni e Corso Vittorio Emanuele – Manziana
URL:https://www.sabazia.it/evento/mercatino-antiquariato-e-artigianato-manziana-13/
LOCATION:Piazza Tommaso Tittoni\, Piazza Tommaso Tittoni\, Manziana\, 00066\, Italia
CATEGORIES:Mercati
ATTACH;FMTTYPE=image/jpeg:https://www.sabazia.it/wp-content/uploads/2023/10/mercatino-antiquariato-e-artigianato-Manziana.jpg
END:VEVENT
BEGIN:VEVENT
DTSTART;TZID=Europe/Rome:20241103T050000
DTEND;TZID=Europe/Rome:20241104T045959
DTSTAMP:20260419T170824
CREATED:20231026T135818Z
LAST-MODIFIED:20231026T135818Z
UID:30555-1730610000-1730696399@www.sabazia.it
SUMMARY:Mercatino Antiquariato e Artigianato Manziana
DESCRIPTION:Mercatino dell’Antiquariato e dell’Artigianato di Manziana\nOgni prima domenica del mese\, piazza T. Tittoni e Corso Vittorio Emanuele – Manziana
URL:https://www.sabazia.it/evento/mercatino-antiquariato-e-artigianato-manziana-12/
LOCATION:Piazza Tommaso Tittoni\, Piazza Tommaso Tittoni\, Manziana\, 00066\, Italia
CATEGORIES:Mercati
ATTACH;FMTTYPE=image/jpeg:https://www.sabazia.it/wp-content/uploads/2023/10/mercatino-antiquariato-e-artigianato-Manziana.jpg
END:VEVENT
BEGIN:VEVENT
DTSTART;TZID=Europe/Rome:20241006T050000
DTEND;TZID=Europe/Rome:20241007T045959
DTSTAMP:20260419T170824
CREATED:20231026T135752Z
LAST-MODIFIED:20231026T135752Z
UID:30553-1728190800-1728277199@www.sabazia.it
SUMMARY:Mercatino Antiquariato e Artigianato Manziana
DESCRIPTION:Mercatino dell’Antiquariato e dell’Artigianato di Manziana\nOgni prima domenica del mese\, piazza T. Tittoni e Corso Vittorio Emanuele – Manziana
URL:https://www.sabazia.it/evento/mercatino-antiquariato-e-artigianato-manziana-11/
LOCATION:Piazza Tommaso Tittoni\, Piazza Tommaso Tittoni\, Manziana\, 00066\, Italia
CATEGORIES:Mercati
ATTACH;FMTTYPE=image/jpeg:https://www.sabazia.it/wp-content/uploads/2023/10/mercatino-antiquariato-e-artigianato-Manziana.jpg
END:VEVENT
BEGIN:VEVENT
DTSTART;TZID=Europe/Rome:20240901T050000
DTEND;TZID=Europe/Rome:20240902T045959
DTSTAMP:20260419T170824
CREATED:20231026T135721Z
LAST-MODIFIED:20231026T135721Z
UID:30551-1725166800-1725253199@www.sabazia.it
SUMMARY:Mercatino Antiquariato e Artigianato Manziana
DESCRIPTION:Mercatino dell’Antiquariato e dell’Artigianato di Manziana\nOgni prima domenica del mese\, piazza T. Tittoni e Corso Vittorio Emanuele – Manziana
URL:https://www.sabazia.it/evento/mercatino-antiquariato-e-artigianato-manziana-10/
LOCATION:Piazza Tommaso Tittoni\, Piazza Tommaso Tittoni\, Manziana\, 00066\, Italia
CATEGORIES:Mercati
ATTACH;FMTTYPE=image/jpeg:https://www.sabazia.it/wp-content/uploads/2023/10/mercatino-antiquariato-e-artigianato-Manziana.jpg
END:VEVENT
BEGIN:VEVENT
DTSTART;TZID=Europe/Rome:20240804T050000
DTEND;TZID=Europe/Rome:20240805T045959
DTSTAMP:20260419T170824
CREATED:20231026T135645Z
LAST-MODIFIED:20231026T135645Z
UID:30549-1722747600-1722833999@www.sabazia.it
SUMMARY:Mercatino Antiquariato e Artigianato Manziana
DESCRIPTION:Mercatino dell’Antiquariato e dell’Artigianato di Manziana\nOgni prima domenica del mese\, piazza T. Tittoni e Corso Vittorio Emanuele – Manziana
URL:https://www.sabazia.it/evento/mercatino-antiquariato-e-artigianato-manziana-9/
LOCATION:Piazza Tommaso Tittoni\, Piazza Tommaso Tittoni\, Manziana\, 00066\, Italia
CATEGORIES:Mercati
ATTACH;FMTTYPE=image/jpeg:https://www.sabazia.it/wp-content/uploads/2023/10/mercatino-antiquariato-e-artigianato-Manziana.jpg
END:VEVENT
BEGIN:VEVENT
DTSTART;TZID=Europe/Rome:20240707T050000
DTEND;TZID=Europe/Rome:20240708T045959
DTSTAMP:20260419T170824
CREATED:20231026T135609Z
LAST-MODIFIED:20231026T135609Z
UID:30547-1720328400-1720414799@www.sabazia.it
SUMMARY:Mercatino Antiquariato e Artigianato Manziana
DESCRIPTION:Mercatino dell’Antiquariato e dell’Artigianato di Manziana\nOgni prima domenica del mese\, piazza T. Tittoni e Corso Vittorio Emanuele – Manziana
URL:https://www.sabazia.it/evento/mercatino-antiquariato-e-artigianato-manziana-8/
LOCATION:Piazza Tommaso Tittoni\, Piazza Tommaso Tittoni\, Manziana\, 00066\, Italia
CATEGORIES:Mercati
ATTACH;FMTTYPE=image/jpeg:https://www.sabazia.it/wp-content/uploads/2023/10/mercatino-antiquariato-e-artigianato-Manziana.jpg
END:VEVENT
BEGIN:VEVENT
DTSTART;TZID=Europe/Rome:20240602T050000
DTEND;TZID=Europe/Rome:20240603T045959
DTSTAMP:20260419T170824
CREATED:20231026T135534Z
LAST-MODIFIED:20231026T135534Z
UID:30545-1717304400-1717390799@www.sabazia.it
SUMMARY:Mercatino Antiquariato e Artigianato Manziana
DESCRIPTION:Mercatino dell’Antiquariato e dell’Artigianato di Manziana\nOgni prima domenica del mese\, piazza T. Tittoni e Corso Vittorio Emanuele – Manziana
URL:https://www.sabazia.it/evento/mercatino-antiquariato-e-artigianato-manziana-7/
LOCATION:Piazza Tommaso Tittoni\, Piazza Tommaso Tittoni\, Manziana\, 00066\, Italia
CATEGORIES:Mercati
ATTACH;FMTTYPE=image/jpeg:https://www.sabazia.it/wp-content/uploads/2023/10/mercatino-antiquariato-e-artigianato-Manziana.jpg
END:VEVENT
BEGIN:VEVENT
DTSTART;TZID=Europe/Rome:20240505T050000
DTEND;TZID=Europe/Rome:20240506T045959
DTSTAMP:20260419T170824
CREATED:20231026T135502Z
LAST-MODIFIED:20231026T135502Z
UID:30543-1714885200-1714971599@www.sabazia.it
SUMMARY:Mercatino Antiquariato e Artigianato Manziana
DESCRIPTION:Mercatino dell’Antiquariato e dell’Artigianato di Manziana\nOgni prima domenica del mese\, piazza T. Tittoni e Corso Vittorio Emanuele – Manziana
URL:https://www.sabazia.it/evento/mercatino-antiquariato-e-artigianato-manziana-6/
LOCATION:Piazza Tommaso Tittoni\, Piazza Tommaso Tittoni\, Manziana\, 00066\, Italia
CATEGORIES:Mercati
ATTACH;FMTTYPE=image/jpeg:https://www.sabazia.it/wp-content/uploads/2023/10/mercatino-antiquariato-e-artigianato-Manziana.jpg
END:VEVENT
BEGIN:VEVENT
DTSTART;TZID=Europe/Rome:20240407T050000
DTEND;TZID=Europe/Rome:20240408T045959
DTSTAMP:20260419T170824
CREATED:20231026T135429Z
LAST-MODIFIED:20231026T135429Z
UID:30541-1712466000-1712552399@www.sabazia.it
SUMMARY:Mercatino Antiquariato e Artigianato Manziana
DESCRIPTION:Mercatino dell’Antiquariato e dell’Artigianato di Manziana\nOgni prima domenica del mese\, piazza T. Tittoni e Corso Vittorio Emanuele – Manziana
URL:https://www.sabazia.it/evento/mercatino-antiquariato-e-artigianato-manziana-5/
LOCATION:Piazza Tommaso Tittoni\, Piazza Tommaso Tittoni\, Manziana\, 00066\, Italia
CATEGORIES:Mercati
ATTACH;FMTTYPE=image/jpeg:https://www.sabazia.it/wp-content/uploads/2023/10/mercatino-antiquariato-e-artigianato-Manziana.jpg
END:VEVENT
BEGIN:VEVENT
DTSTART;TZID=Europe/Rome:20240303T050000
DTEND;TZID=Europe/Rome:20240304T045959
DTSTAMP:20260419T170824
CREATED:20231026T135321Z
LAST-MODIFIED:20231026T135400Z
UID:30539-1709442000-1709528399@www.sabazia.it
SUMMARY:Mercatino Antiquariato e Artigianato Manziana
DESCRIPTION:Mercatino dell’Antiquariato e dell’Artigianato di Manziana\nOgni prima domenica del mese\, piazza T. Tittoni e Corso Vittorio Emanuele – Manziana
URL:https://www.sabazia.it/evento/mercatino-antiquariato-e-artigianato-manziana-4/
LOCATION:Piazza Tommaso Tittoni\, Piazza Tommaso Tittoni\, Manziana\, 00066\, Italia
CATEGORIES:Mercati
ATTACH;FMTTYPE=image/jpeg:https://www.sabazia.it/wp-content/uploads/2023/10/mercatino-antiquariato-e-artigianato-Manziana.jpg
END:VEVENT
BEGIN:VEVENT
DTSTART;TZID=Europe/Rome:20240107T050000
DTEND;TZID=Europe/Rome:20240108T045959
DTSTAMP:20260419T170824
CREATED:20231026T135248Z
LAST-MODIFIED:20231026T135248Z
UID:30537-1704603600-1704689999@www.sabazia.it
SUMMARY:Mercatino Antiquariato e Artigianato Manziana
DESCRIPTION:Mercatino dell’Antiquariato e dell’Artigianato di Manziana\nOgni prima domenica del mese\, piazza T. Tittoni e Corso Vittorio Emanuele – Manziana
URL:https://www.sabazia.it/evento/mercatino-antiquariato-e-artigianato-manziana-3/
LOCATION:Piazza Tommaso Tittoni\, Piazza Tommaso Tittoni\, Manziana\, 00066\, Italia
CATEGORIES:Mercati
ATTACH;FMTTYPE=image/jpeg:https://www.sabazia.it/wp-content/uploads/2023/10/mercatino-antiquariato-e-artigianato-Manziana.jpg
END:VEVENT
BEGIN:VEVENT
DTSTART;TZID=Europe/Rome:20231203T050000
DTEND;TZID=Europe/Rome:20231204T045959
DTSTAMP:20260419T170824
CREATED:20231026T135145Z
LAST-MODIFIED:20231026T135145Z
UID:30535-1701579600-1701665999@www.sabazia.it
SUMMARY:Mercatino Antiquariato e Artigianato Manziana
DESCRIPTION:Mercatino dell’Antiquariato e dell’Artigianato di Manziana\nOgni prima domenica del mese\, piazza T. Tittoni e Corso Vittorio Emanuele – Manziana
URL:https://www.sabazia.it/evento/mercatino-antiquariato-e-artigianato-manziana-2/
LOCATION:Piazza Tommaso Tittoni\, Piazza Tommaso Tittoni\, Manziana\, 00066\, Italia
CATEGORIES:Mercati
ATTACH;FMTTYPE=image/jpeg:https://www.sabazia.it/wp-content/uploads/2023/10/mercatino-antiquariato-e-artigianato-Manziana.jpg
END:VEVENT
BEGIN:VEVENT
DTSTART;TZID=Europe/Rome:20231105T050000
DTEND;TZID=Europe/Rome:20231106T045959
DTSTAMP:20260419T170824
CREATED:20231026T135049Z
LAST-MODIFIED:20231026T135049Z
UID:30530-1699160400-1699246799@www.sabazia.it
SUMMARY:Mercatino Antiquariato e Artigianato Manziana
DESCRIPTION:Mercatino dell’Antiquariato e dell’Artigianato di Manziana\nOgni prima domenica del mese\, piazza T. Tittoni e Corso Vittorio Emanuele – Manziana
URL:https://www.sabazia.it/evento/mercatino-antiquariato-e-artigianato-manziana/
LOCATION:Piazza Tommaso Tittoni\, Piazza Tommaso Tittoni\, Manziana\, 00066\, Italia
CATEGORIES:Mercati
ATTACH;FMTTYPE=image/jpeg:https://www.sabazia.it/wp-content/uploads/2023/10/mercatino-antiquariato-e-artigianato-Manziana.jpg
END:VEVENT
END:VCALENDAR