BEGIN:VCALENDAR
VERSION:2.0
PRODID:-//sabazia.it - ECPv6.15.18//NONSGML v1.0//EN
CALSCALE:GREGORIAN
METHOD:PUBLISH
X-ORIGINAL-URL:https://www.sabazia.it
X-WR-CALDESC:Eventi per sabazia.it
REFRESH-INTERVAL;VALUE=DURATION:PT1H
X-Robots-Tag:noindex
X-PUBLISHED-TTL:PT1H
BEGIN:VTIMEZONE
TZID:Europe/Rome
BEGIN:DAYLIGHT
TZOFFSETFROM:+0100
TZOFFSETTO:+0200
TZNAME:CEST
DTSTART:20210328T010000
END:DAYLIGHT
BEGIN:STANDARD
TZOFFSETFROM:+0200
TZOFFSETTO:+0100
TZNAME:CET
DTSTART:20211031T010000
END:STANDARD
BEGIN:DAYLIGHT
TZOFFSETFROM:+0100
TZOFFSETTO:+0200
TZNAME:CEST
DTSTART:20220327T010000
END:DAYLIGHT
BEGIN:STANDARD
TZOFFSETFROM:+0200
TZOFFSETTO:+0100
TZNAME:CET
DTSTART:20221030T010000
END:STANDARD
BEGIN:DAYLIGHT
TZOFFSETFROM:+0100
TZOFFSETTO:+0200
TZNAME:CEST
DTSTART:20230326T010000
END:DAYLIGHT
BEGIN:STANDARD
TZOFFSETFROM:+0200
TZOFFSETTO:+0100
TZNAME:CET
DTSTART:20231029T010000
END:STANDARD
END:VTIMEZONE
BEGIN:VEVENT
DTSTART;TZID=Europe/Rome:20220820T210000
DTEND;TZID=Europe/Rome:20220820T233000
DTSTAMP:20260419T192615
CREATED:20220819T125530Z
LAST-MODIFIED:20220819T125643Z
UID:26721-1661029200-1661038200@www.sabazia.it
SUMMARY:Sometimes Quartet @ Granfà - Cucina Letteraria
DESCRIPTION:Sometimes Quartet @ Granfà – Cucina Letteraria\nSabato 20 agosto 2022 ore 21:00\nTorna il grande Jazz:\nAndrea Pasquetti – Sax\nLuca Ingletti – Batteria\nAndrea Romanazzo – Basso\nFrancesco Bignami – Pianoforte
URL:https://www.sabazia.it/evento/sometimes-quartet-granfa-cucina-letteraria/
LOCATION:Granfà – Cucina Letteraria\, piazza del lavatoio 5\, Anguillara Sabazia\, 00061\, Italia
CATEGORIES:Concerti e musica
ATTACH;FMTTYPE=image/jpeg:https://www.sabazia.it/wp-content/uploads/2022/08/Sometimes-Quartet.jpg
ORGANIZER;CN="Granf%C3%A0 - Cucina Letteraria":MAILTO:https://www.facebook.com/GranfaFoodBooksAndBeers/
END:VEVENT
END:VCALENDAR