BEGIN:VCALENDAR
VERSION:2.0
PRODID:-//sabazia.it - ECPv6.15.18//NONSGML v1.0//EN
CALSCALE:GREGORIAN
METHOD:PUBLISH
X-ORIGINAL-URL:https://www.sabazia.it
X-WR-CALDESC:Eventi per sabazia.it
REFRESH-INTERVAL;VALUE=DURATION:PT1H
X-Robots-Tag:noindex
X-PUBLISHED-TTL:PT1H
BEGIN:VTIMEZONE
TZID:Europe/Rome
BEGIN:DAYLIGHT
TZOFFSETFROM:+0100
TZOFFSETTO:+0200
TZNAME:CEST
DTSTART:20240331T010000
END:DAYLIGHT
BEGIN:STANDARD
TZOFFSETFROM:+0200
TZOFFSETTO:+0100
TZNAME:CET
DTSTART:20241027T010000
END:STANDARD
BEGIN:DAYLIGHT
TZOFFSETFROM:+0100
TZOFFSETTO:+0200
TZNAME:CEST
DTSTART:20250330T010000
END:DAYLIGHT
BEGIN:STANDARD
TZOFFSETFROM:+0200
TZOFFSETTO:+0100
TZNAME:CET
DTSTART:20251026T010000
END:STANDARD
BEGIN:DAYLIGHT
TZOFFSETFROM:+0100
TZOFFSETTO:+0200
TZNAME:CEST
DTSTART:20260329T010000
END:DAYLIGHT
BEGIN:STANDARD
TZOFFSETFROM:+0200
TZOFFSETTO:+0100
TZNAME:CET
DTSTART:20261025T010000
END:STANDARD
END:VTIMEZONE
BEGIN:VEVENT
DTSTART;TZID=Europe/Rome:20250711T050000
DTEND;TZID=Europe/Rome:20250714T045959
DTSTAMP:20260419T181623
CREATED:20250709T131428Z
LAST-MODIFIED:20250709T132815Z
UID:30875-1752210000-1752469199@www.sabazia.it
SUMMARY:Giochi di ruolo a Bracciano: arriva il Roll!Fest 2025 dall'11 al 13 luglio
DESCRIPTION:Dall’11 al 13 luglio 2025\, il centro storico di Bracciano si trasforma in un palcoscenico vivente per appassionati di giochi di ruolo e fantasy. Il Roll!Fest – Bracciano International RPG Festival promette di essere il più grande evento italiano dedicato al mondo dei giochi di ruolo da tavolo e non solo\, offrendo tre giorni di immersione totale nelle atmosfere più coinvolgenti del fantastico. \nUn festival internazionale nel borgo medievale di Bracciano\nLe strade e le piazze storiche di Bracciano diventano il teatro naturale per avventure epiche e storie senza tempo. L’evento si propone di trasformare l’intero centro storico in un mondo vivo e vibrante\, dove giocatori esperti\, principianti e semplici curiosi possono vivere un’esperienza unica nel mondo dei giochi di ruolo. \nIl festival offre un programma ricco e articolato che abbraccia tutte le sfumature del GDR contemporaneo. Dalle sessioni tradizionali di giochi di ruolo da tavolo con giocatori e autori provenienti da tutta Italia\, fino alle esperienze più immersive del LARP (Live Action Role-Playing)\, ogni partecipante può trovare la propria dimensione ideale tra le vie del suggestivo borgo di Bracciano. \nProgramma e attività principali per gli appassionati di GDR\nL’evento si sviluppa attraverso diverse aree tematiche\, ciascuna pensata per offrire esperienze specifiche agli appassionati del settore. Le aree espositive ospitano editori\, artigiani e illustratori che presentano le loro ultime creazioni nel campo dei giochi di ruolo\, mentre gli spazi dedicati ai talk e ai concerti vedono la partecipazione di ospiti speciali del panorama nazionale. \nLa componente visiva trova espressione attraverso mostre e spettacoli di cosplay\, celebrando la cultura del fantastico in tutte le sue forme. Questa varietà di proposte rende il Roll!Fest un punto di riferimento per l’intera community italiana dei giochi di ruolo da tavolo. \nInformazioni pratiche per i visitatori\n\nDate: 11-13 luglio 2025\nLuogo: Centro storico di Bracciano (Roma)\nProgramma: disponibile qui\nBiglietti: è possibile acquistarli a questo link\n\nL’evento gode del patrocinio del Comune di Bracciano e del Consiglio Regionale del Lazio\, confermando il supporto istituzionale per questa iniziativa culturale. La location storica di Bracciano\, facilmente raggiungibile da Roma\, offre un contesto suggestivo che valorizza l’atmosfera medievale tanto cara agli appassionati dei giochi di ruolo. \nIl Roll!Fest 2025 si conferma come un appuntamento imperdibile per tutti gli appassionati dei giochi di ruolo da tavolo\, offrendo un’esperienza completa che unisce tradizione e innovazione nel suggestivo scenario del centro storico di Bracciano.
URL:https://www.sabazia.it/evento/giochi-di-ruolo-rollfest-2025-bracciano/
LOCATION:Bracciano\, 00062\, Italia
CATEGORIES:Appuntamenti,Bracciano,Festival
ATTACH;FMTTYPE=image/jpeg:https://www.sabazia.it/wp-content/uploads/2025/07/roll-fest.jpg
ORGANIZER;CN="Rollfest - Bracciano APS":MAILTO:info@rollfest.it
END:VEVENT
END:VCALENDAR